FILENAME: 34089C56
QUADRANGLE_NAME: OXFORD SOUTH
QUADRANT: NE
WEST_LONGITUDE: -89 33 45.00000
EAST_LONGITUDE: -89 30 0.00000
NORTH_LATITUDE: 34 22 30.00000
SOUTH_LATITUDE: 34 18 45.00000
PRODUCTION_DATE: 2000 1 21
RASTER_ORDER: LEFT_RIGHT/TOP_BOTTOM
BAND_ORGANIZATION: BIP
BAND_CONTENT: RED
BAND_CONTENT: GREEN
BAND_CONTENT: BLUE
BITS_PER_PIXEL: 8
SAMPLES_AND_LINES: 6542 7699
HORIZONTAL_DATUM: NAD83
HORIZONTAL_COORDINATE_SYSTEM: UTM
COORDINATE_ZONE: 16
HORIZONTAL_UNITS: meters
HORIZONTAL_RESOLUTION: 1.00000
SECONDARY_HORIZONTAL_DATUM: NAD27
XY_ORIGIN: 263887.00000 3807030.00000
SECONDARY_XY_ORIGIN: 263888.95900 3806822.45100
NATION: US
STATE: MS
NW_QUAD_CORNER_XY: 264374.92100 3806712.63400
NE_QUAD_CORNER_XY: 270123.22300 3806569.15600
SE_QUAD_CORNERY_XY: 269952.45900 3799636.47500
SW_QUAD_CORNER_XY: 264199.87900 3799779.83000
SECONDARY_NW_QUAD_XY: 264369.55900 3806517.06000
SECONDARY_NE_QUAD_XY: 270117.99100 3806373.57900
SECONDARY_SE_QUAD_XY: 269947.23200 3799441.09400
SECONDARY_SW_QUAD_XY: 264194.52200 3799584.45200
RMSE_XY: 4.32000
IMAGE_SOURCE: COLOR INFRA-RED FILM
SOURCE_IMAGE_ID: NAPP 9256-022
SOURCE_IMAGE_DATE: 1996 3 9
SOURCE_DEM_DATE: 1998 0 0
AGENCY: WESTERN MAPPING CENTER (WMC)
PRODUCER: WOOLPERT LLP
PRODUCTION_SYSTEM: INTERGRAPH ISPM, ISIR
COMPRESSION: UNDEFINED
STANDARD_VERSION: 1996 12
METADATA_DATE: 2000 1 21
DATA_FILE_SIZE: 151120200
BYTE_COUNT: 19626
